BEGIN:VCALENDAR
VERSION:2.0
PRODID:-//Xavin Hotel Harkány - ECPv6.3.4//NONSGML v1.0//EN
CALSCALE:GREGORIAN
METHOD:PUBLISH
X-WR-CALNAME:Xavin Hotel Harkány
X-ORIGINAL-URL:https://www.xavinhotelharkany.hu
X-WR-CALDESC:Events for Xavin Hotel Harkány
REFRESH-INTERVAL;VALUE=DURATION:PT1H
X-Robots-Tag:noindex
X-PUBLISHED-TTL:PT1H
BEGIN:VTIMEZONE
TZID:UTC
BEGIN:STANDARD
TZOFFSETFROM:+0000
TZOFFSETTO:+0000
TZNAME:UTC
DTSTART:20260101T000000
END:STANDARD
END:VTIMEZONE
BEGIN:VEVENT
DTSTART;TZID=UTC:20260317T170000
DTEND;TZID=UTC:20260426T170000
DTSTAMP:20260423T013416
CREATED:20260219T112428Z
LAST-MODIFIED:20260219T115153Z
UID:14146-1773766800-1777222800@www.xavinhotelharkany.hu
SUMMARY:Fotókiállítás a Siklósi Várban 📸
DESCRIPTION:Fotókiállítás a Siklósi Várban: a 22. tavaszi tárlat címe: „Objektíven szólva”\, megnyitó időpontja: 2026.03.13. 17:00. \nA Siklósi Fotókör egy helyi közösség\, amelynek célja\, hogy összefogja a fotózás iránt érdeklődőket és lehetőséget biztosítson számukra a fejlődésre\, tapasztalatcserére és közös alkotásra. A csoport tagjai különböző háttérrel és tapasztalattal rendelkeznek – akadnak köztük amatőr fotósok és tapasztaltabb művészek is –\, de mindannyian osztoznak a fényképezés iránti szenvedélyben. \nA fotókör rendszeresen szervez műhelymunkákat\, előadásokat és közös fotós sétákat\, ahol a résztvevők új technikákat sajátíthatnak el\, kipróbálhatják magukat különböző témákban\, és megoszthatják egymással tapasztalataikat. A természetfotózástól kezdve a portrékészítésen át az építészeti fotózásig számos területen kipróbálhatják magukat\, így mindenki megtalálhatja a számára leginspirálóbb műfajt. \nTavalyi kiállításuk címe pl. „Mélység – élesség” volt\, melyen a 2024-es év legjobb munkáit mutatták be a tagok. \nSiklósi Fotókör – tavaszi fotókiállítás megnyitó a Siklósi Vár Galériájában. Készítette: Gönczöl Gábor\, forrás: facebook.com/siklosi.fotokor  \nA Fotókör tagjai aktívan részt vesznek Siklós kulturális életében is. Kiállításokat szerveznek\, ahol bemutathatják legjobb munkáikat\, és gyakran dokumentálják a városi rendezvényeket is. Ezzel nemcsak saját művészi látásmódjukat fejlesztik\, hanem hozzájárulnak Siklós vizuális történetének megörökítéséhez is. \nA közösség ereje és a közös alkotás öröme teszi a Siklósi Fotókört különlegessé. Nem csupán egy technikai tudásmegosztó hely\, hanem egy inspiráló közeg\, ahol a tagok támogatják egymást\, megosztják ötleteiket\, és együtt fejlődnek a fotóművészet világában. \nSiklósi Fotókör – „Objektíven szólva” fotókiállítás – információk\n\nA kiállítás megnyitója: 2026.03.13. 17:00\nHelyszín: A Siklósi Vár Galériája\nA vendégeket köszönti: Balázs Csaba\, A Siklósi Vár- És Múzeumbaráti Kör Elnöke\nKözreműködik a Nihil Chips Akusztik Duó\n\nKiállítók: \n\nBencs János\nCsucsi Gergely\nFűri István\nHorváthné Tomics Rózsa\nKenyeres Attila\nKocsmár Gábor\nKovács Ferenc\nMagyar Lilla Diána\nMehring Antal\nNádasi Tibor\nNagy Enikő\nRónási Márton\nSchnell Tamás\nSzkrajcsics Margó\nDr. Thaly Gedeon György\nUracsné Beck Etelka\nVarga Györgyi\nVöldi Izabella\nZvolszky Zita\nZsóri Luca\n\nA fotókiállítás 2026. április 26-ig tekinthető meg a Siklósi Vár nyitvatartási idejében.
URL:https://www.xavinhotelharkany.hu/esemeny/fotokiallitas-a-siklosi-varban-siklosi-fotokor-20260313-20250426-xavinhotelharkany/
LOCATION:Siklósi Vár\, Vajda János tér 8.\, Siklós\, Baranya\, 7800\, Magyarország
ATTACH;FMTTYPE=image/jpeg:https://www.xavinhotelharkany.hu/wp-content/uploads/2026/02/siklosi_fotokor_tarlat_kiallitas_2026.jpg
END:VEVENT
BEGIN:VEVENT
DTSTART;TZID=UTC:20260423T100000
DTEND;TZID=UTC:20260424T000000
DTSTAMP:20260423T013416
CREATED:20260328T135827Z
LAST-MODIFIED:20260328T140321Z
UID:14334-1776938400-1776988800@www.xavinhotelharkany.hu
SUMMARY:Palkonyai Pünkösdi Nyitott Pincék
DESCRIPTION:2026-ban is megrendezésre kerül a nagysikerű Palkonyai Nyitott Pincék Pünkösdi kiadása. \nKészüljetek fel két pörgős napra\, ami alatt helyi borok\, ínycsiklandó fogások\, élőzenei koncertek\, kulturális programok\, gyermek programok és fantasztikus pillanatok várnak rátok! \nAmi biztosan lesz:\n Könnyűzenei koncertek – Fergeteges élményekkel Borkóstolók – A palkonyai vincellérek tételeiből Gasztronómiai élmények – Kiváló falatok\, helyi ízek Gyermekprogramok – A legkisebbeknek is szuper élmények Kézműves vásár – Színes portékák\, kreatív vásárfiák\n\nA fellépők között ott lesz például a Hétnyolcad akik egy kreatív zenei formáció\, amely a népzenei alapokat modern hangzással és egyedi ritmikával ötvözi. Nevük is utal különleges\, 7/8-os lüktetésre épülő stílusukra\, amely friss és izgalmas koncertélményt kínál a közönségnek.\nPalkonyai pincék – Hétnyolcad  \n\n\nRészletesebb programot itt találnak.\nBelépőjegyek:\n ELŐVÉTELES JEGYEK \nFESZTIVÁLJEGY 2 NAPOS : 7.500 Ft – Elővétel május 21-ig!Komplex élménycsomagot tartalmaz\, hiszen a fesztivál karszalag mellett (ami az összes koncertre\, kulturális és gyerekműsorra belépést biztosít)\, egy gravírozott Palkonya üvegpohár és  AJÁNDÉK 5 db kóstolókupon (5*1dl bor) is tiétek lesz.\n\n FESZTIVÁLJEGY 1 NAPOS : 6.000 Ft – Elővétel május 21-ig!Egy napra tartalmazza a komplex élménycsomagot\, a fesztivál karszalag mellett (ami az összes koncertre\, kulturális és gyerekműsorra belépést biztosít)\, egy gravírozott Palkonya üvegpohár és  AJÁNDÉK 5 db kóstolókupon (5*1dl bor) is tiétek lesz.\nA fesztiváljegyek kizárólag elővételben vásárolhatóak meg\, helyszínen nem! Jegyvásárlás: https://programok.palkonya.hu/hu———————————————————\nBELÉPŐJEGY 2 napra: 5.500 Ft – Elővétel május 17-ig!Tartalmazza a fesztivál karszalagot (ami két napra az összes koncertre\, kulturális és gyerekműsorra belépést biztosít).  AJÁNDÉK 1 db kóstolókupon (1dl bor)\n\nBELÉPŐJEGY 1 napra: 3.000 Ft – Elővétel május 17-ig!Tartalmazza a fesztivál karszalagot (ami egy napra az összes koncertre\, kulturális és gyerekműsorra belépést biztosít).  AJÁNDÉK 1 db kóstolókupon (1dl bor)\n Jegyvásárlás: https://programok.palkonya.hu/hu\n\n\n HELYSZÍNI JEGYEK A helyszíni jegyek a beléptetőpontokon válthatóak meg 2026.05.23-24. napokon.\n Belépőjegy 2 napra: 6.000 FtTartalmazza a fesztivál karszalagot (ami két napra az összes koncertre\, kulturális és gyerekműsorra belépést biztosít).\n Belépőjegy 1 napra: 3.500 FtTartalmazza a fesztivál karszalagot (ami egy napra az összes koncertre\, kulturális és gyerekműsorra belépést biztosít)\n\n\nPalkonyai Nyitott Pincék extári:\n P•O•H•Á•R A helyszíneken a kiszolgálás kizárólag a rendezvény hivatalos poharaiban történik.\n• Üveg kóstolópohár: a helyszínen a pincéknél vásárolható 2000 Ft/db áron.• Fesztiválpohár (500 ml): a helyszínen a pincéknél vásárolható 1000 Ft/db áron.\n\n B•O•R•K•U•P•O•N•O•K Adjátok át magatokat a borvidéki életérzésnek és kóstoljátok végig a helyi pincék borait borkuponokkal!
URL:https://www.xavinhotelharkany.hu/esemeny/palkonyai-punkosdi-nyitott-pincek-xavinhotelharkany/
LOCATION:Palkonya\, Fő u.\, Palkonya\, Baranya\, 7771\, Magyarország
ATTACH;FMTTYPE=image/jpeg:https://www.xavinhotelharkany.hu/wp-content/uploads/2026/03/652408832_1389161876571931_4873797096603004032_n.jpg
ORGANIZER;CN="Palkonya%2C %C3%B6nkorm%C3%A1nyzat":MAILTO:hivatal@ujpetre.hu
END:VEVENT
END:VCALENDAR