BEGIN:VCALENDAR
VERSION:2.0
PRODID:-//Xavin Hotel Harkány - ECPv6.3.4//NONSGML v1.0//EN
CALSCALE:GREGORIAN
METHOD:PUBLISH
X-WR-CALNAME:Xavin Hotel Harkány
X-ORIGINAL-URL:https://www.xavinhotelharkany.hu
X-WR-CALDESC:Events for Xavin Hotel Harkány
REFRESH-INTERVAL;VALUE=DURATION:PT1H
X-Robots-Tag:noindex
X-PUBLISHED-TTL:PT1H
BEGIN:VTIMEZONE
TZID:UTC
BEGIN:STANDARD
TZOFFSETFROM:+0000
TZOFFSETTO:+0000
TZNAME:UTC
DTSTART:20260101T000000
END:STANDARD
END:VTIMEZONE
BEGIN:VEVENT
DTSTART;TZID=UTC:20260317T170000
DTEND;TZID=UTC:20260426T170000
DTSTAMP:20260425T013043
CREATED:20260219T112428Z
LAST-MODIFIED:20260219T115153Z
UID:14146-1773766800-1777222800@www.xavinhotelharkany.hu
SUMMARY:Fotókiállítás a Siklósi Várban 📸
DESCRIPTION:Fotókiállítás a Siklósi Várban: a 22. tavaszi tárlat címe: „Objektíven szólva”\, megnyitó időpontja: 2026.03.13. 17:00. \nA Siklósi Fotókör egy helyi közösség\, amelynek célja\, hogy összefogja a fotózás iránt érdeklődőket és lehetőséget biztosítson számukra a fejlődésre\, tapasztalatcserére és közös alkotásra. A csoport tagjai különböző háttérrel és tapasztalattal rendelkeznek – akadnak köztük amatőr fotósok és tapasztaltabb művészek is –\, de mindannyian osztoznak a fényképezés iránti szenvedélyben. \nA fotókör rendszeresen szervez műhelymunkákat\, előadásokat és közös fotós sétákat\, ahol a résztvevők új technikákat sajátíthatnak el\, kipróbálhatják magukat különböző témákban\, és megoszthatják egymással tapasztalataikat. A természetfotózástól kezdve a portrékészítésen át az építészeti fotózásig számos területen kipróbálhatják magukat\, így mindenki megtalálhatja a számára leginspirálóbb műfajt. \nTavalyi kiállításuk címe pl. „Mélység – élesség” volt\, melyen a 2024-es év legjobb munkáit mutatták be a tagok. \nSiklósi Fotókör – tavaszi fotókiállítás megnyitó a Siklósi Vár Galériájában. Készítette: Gönczöl Gábor\, forrás: facebook.com/siklosi.fotokor  \nA Fotókör tagjai aktívan részt vesznek Siklós kulturális életében is. Kiállításokat szerveznek\, ahol bemutathatják legjobb munkáikat\, és gyakran dokumentálják a városi rendezvényeket is. Ezzel nemcsak saját művészi látásmódjukat fejlesztik\, hanem hozzájárulnak Siklós vizuális történetének megörökítéséhez is. \nA közösség ereje és a közös alkotás öröme teszi a Siklósi Fotókört különlegessé. Nem csupán egy technikai tudásmegosztó hely\, hanem egy inspiráló közeg\, ahol a tagok támogatják egymást\, megosztják ötleteiket\, és együtt fejlődnek a fotóművészet világában. \nSiklósi Fotókör – „Objektíven szólva” fotókiállítás – információk\n\nA kiállítás megnyitója: 2026.03.13. 17:00\nHelyszín: A Siklósi Vár Galériája\nA vendégeket köszönti: Balázs Csaba\, A Siklósi Vár- És Múzeumbaráti Kör Elnöke\nKözreműködik a Nihil Chips Akusztik Duó\n\nKiállítók: \n\nBencs János\nCsucsi Gergely\nFűri István\nHorváthné Tomics Rózsa\nKenyeres Attila\nKocsmár Gábor\nKovács Ferenc\nMagyar Lilla Diána\nMehring Antal\nNádasi Tibor\nNagy Enikő\nRónási Márton\nSchnell Tamás\nSzkrajcsics Margó\nDr. Thaly Gedeon György\nUracsné Beck Etelka\nVarga Györgyi\nVöldi Izabella\nZvolszky Zita\nZsóri Luca\n\nA fotókiállítás 2026. április 26-ig tekinthető meg a Siklósi Vár nyitvatartási idejében.
URL:https://www.xavinhotelharkany.hu/esemeny/fotokiallitas-a-siklosi-varban-siklosi-fotokor-20260313-20250426-xavinhotelharkany/
LOCATION:Siklósi Vár\, Vajda János tér 8.\, Siklós\, Baranya\, 7800\, Magyarország
ATTACH;FMTTYPE=image/jpeg:https://www.xavinhotelharkany.hu/wp-content/uploads/2026/02/siklosi_fotokor_tarlat_kiallitas_2026.jpg
END:VEVENT
BEGIN:VEVENT
DTSTART;TZID=UTC:20260425T000000
DTEND;TZID=UTC:20260426T235959
DTSTAMP:20260425T013043
CREATED:20260216T110426Z
LAST-MODIFIED:20260216T110838Z
UID:14114-1777075200-1777247999@www.xavinhotelharkany.hu
SUMMARY:Medvehagyma Fesztivál 2026 🌼 Orfű
DESCRIPTION:Medvehagyma Fesztivál 2026. április 25-26 között a festői szépségű baranyai településen\, „természetesen”\, Orfűn! 🌱 \nAz idei évben immáron 21. alkalommal megrendezendő Medvehagyma Fesztivál méltán lett Baranya vármegye egyik kiemelt turisztikai eseménye. Orfű\, a Mecsek és a medvehagyma mára már összetartoznak sokak fejében\, köszönhetően a sok éven át sikeresen lebonyolított programoknak\, melyek várhatóan 2026-ban is szinte megszámlálhatatlan mennyiségben lesznek elérhetők\, köztük sok ingyenesen is és java részük igyekszik a természettel és természettudatos élettel való kapcsolatot is erősíteni a látogatókban. \nA rendezvényen az érdeklődők megkóstolhatják a medvehagymás specialitásokat\, például a pogácsát\, krémleveseket vagy éppen a medvehagymás lángost. Emellett kézműves vásár\, zenés programok és túrák is színesítik a fesztivált\, ahol a természetkedvelők felfedezhetik a környék szépségeit is. \nAz Orfűi Medvehagyma Fesztivál nemcsak a gasztronómia szerelmeseinek nyújt felejthetetlen élményt\, hanem remek alkalom arra is\, hogy az emberek közelebb kerüljenek a természethez és megismerjék a Mecsek különleges ízeit és hagyományait. \n \nIdőpont: 2025.04.25 – 26. \nMedvehagyma Fesztivál 2026 – programok\nHabár a pontos programfüzet még nem ismert\, de válogassunk a tavalyi év kínálatából! Íme: \n\nNagy Bandó András\nMagic Team\nZsiWien pince\nKapucinus Sörfőzde\nSerényi Ákos\nHangoló gyermek színház\nPMD Blues Band koncert\nKemencében sült medvehagymás péksütemények\nFrissen készült medvehagymás ételek faszenes grillről\, bográcsból….Extrém barlangtúra\nKézműves foglalkozások\nMagyar Madártani Egyesület foglalkozásai\nCsomózás\nKistermelők a piacon\nCultur Bazár\nKiállítás a tájházban\nVegán ételek\n… és még sok más program!\n\nRészletes tájékoztató a helyszínekről\, időpontokról\, programlehetőségekről a rendezvény weboldalán lesznek megtalálhatók. \nA korábbi évek eseményiről bejegyzéseink az alábbi címeken találhatók (katt. az évszámra): \n\n2025\n2024\n2023\n\nÉrdemes összekötni a programlehetőséget egy harkányi hétvégi wellnessezéssel is\, melyre szállodánk csomagajánlatai között most is megtalálhatja az Önnek leginkább tetszőt. Kiemelt ajánlatunk a Medvehagyma Fesztivál hétvégéjére a következő: \nPihentető Wellness Napok \n \n 
URL:https://www.xavinhotelharkany.hu/esemeny/medvehagyma-fesztival-orfu-20260425-26-xavinhotelharkany/
LOCATION:Orfű\, Medvehagyma Ház\, Dollár u. 2/1.\, Orfű\, Baranya\, 7677\, Magyarország
ATTACH;FMTTYPE=image/png:https://www.xavinhotelharkany.hu/wp-content/uploads/2026/02/medvehagyma_fesztival_20260425-26.png
ORGANIZER;CN="Medvehagyma H%C3%A1z%2C Orf%C5%B1":MAILTO:medvehagymahaz.orfu@gmail.com
END:VEVENT
BEGIN:VEVENT
DTSTART;TZID=UTC:20260425T080000
DTEND;TZID=UTC:20260425T170000
DTSTAMP:20260425T013043
CREATED:20260219T193610Z
LAST-MODIFIED:20260219T193628Z
UID:14159-1777104000-1777136400@www.xavinhotelharkany.hu
SUMMARY:Fúvócső verseny - Felsőegerszeg
DESCRIPTION:Fúvócső verseny – Baranya íjásza – 2026.04.25-én szombaton Felsőegerszegen! \níjász- és fúvócsöves versenysorozatot hirdetett a Tenkes Fúvócső Egyesület\, melynek második állomása Felsőegerszeg és a Nyílzápor rendezvény. \nA fúvócsövet (angolul blowgun) Dél-Amerika\, Délkelet-Ázsia és Afrika trópusi vidékein használták az őslakos törzsek. A hosszú\, üreges nádból vagy fából készült csöveken keresztül apró\, gyakran természetes méreggel (például kuráréval) bekent nyilakat fújtak ki\, hogy hangtalanul ejtsék el a kisebb zsákmányállatokat a lombok között. \nMára az eszköz teljesen átalakult. A sportolók modern\, könnyű alumíniumból vagy szénszálból készült (leggyakrabban .40-es vagy .62-es kaliberű) fúvócsöveket használnak\, a célpont pedig nem élő állat\, hanem a szabványosított\, papírból vagy habszivacsból készült céltábla. \nMinden érdeklődőt szeretettel vár az egyesület\, idén egy megmérettetéssorozat keretében a versenyezni vágyók kívánsága is teljesül! \nTenkes Fúvócső Egyesület – felkészítésre buzdító plakát  \n 
URL:https://www.xavinhotelharkany.hu/esemeny/baranya-ijasza-fuvocso-verseny-felsoegerszeg-20260425-xavinhotelharkany/
LOCATION:Felsőegerszeg\, Felsőegerszeg\, Baranya\, 7370\, Hungary
ATTACH;FMTTYPE=image/jpeg:https://www.xavinhotelharkany.hu/wp-content/uploads/2026/02/baranya_ijasza_versenysorozat_tenkes_fuvocso_2026.jpg
ORGANIZER;CN="Tenkes F%C3%BAv%C3%B3cs%C5%91 Egyes%C3%BClet":MAILTO:fuvocso.siklos@gmail.com
END:VEVENT
BEGIN:VEVENT
DTSTART;TZID=UTC:20260425T080000
DTEND;TZID=UTC:20260425T170000
DTSTAMP:20260425T013043
CREATED:20260224T160748Z
LAST-MODIFIED:20260224T161356Z
UID:14193-1777104000-1777136400@www.xavinhotelharkany.hu
SUMMARY:Buga Jakab kerékpártúra 2026 🚲
DESCRIPTION:Buga Jakab kerékpártúra – a biciklis rendezvény igazán rendhagyónak számít már az eseménynaptárunkban\, hisz 2023-ban\, 2024-ben és 2025-ben is helyett kapott benne – nem lesz másként idén sem! A vállalkozó szellemű és sportszerető bringások több távon mérettethetik meg állóképességüket\, kitartásukat – és lehetnek részesei a csodás Dél-Baranya két keréken való megismerésének vagy újbóli bebarangolásának! \nA tavaszi Buga Jakab kerékpártúra idén 2026. április 25-én kerül megrendezésre\nIdézve a szervezőktől: \n„A várból 🏰 indulva bejárjuk a Dráva 🏞️ partját\, áttekerünk a Horvát határon\, majd végül visszatérünk Siklósra. A túrák alatt látni fogunk néhányat a méltán híres Villányi borvidék pincéi közül a számtalan kulturális- és természeti csoda mellett.” \nA túralehetőségek a következők: \n\ncsaládi kör (30 km)\nszülinapi kör (49 km)\nBuga Jakab (82 km)\nKétkör (112 km)\n\n \nMiért épp Buga jakab? – a nagy kérdés 😅\nA túra központja Siklós és a Siklósi Vár. 1965-ben készült egy 13 részes TV film\, A Tenkes Kapitánya címmel. \nA film egyik főszereplője pedig nem más\, mint Buga Jakab. \nA Buga Jakab kerékpártúra a Kerékpárral 7 határon át programsorozat részeként\, a Balatonkör Sportegyesület szervezésében\, az Építési és Közlekedési Minisztérium támogatásával és a KTI Magyar Közlekedéstudományi és Logisztikai Intézet közreműködésével valósul meg. \nA Balatonkör Sportegyesület egy csodálatos tájat szeretne bemutatni. \nEddig a Balaton mellett szervezték a túráikat\, de most kitekintenek egy kicsit távolabbra és meglátogatják Baranya megye ékkövét\, Siklóst és környékét. Aki már járt arra\, az nagyon jól ismeri ezt a fantasztikus vidéket. Aki még nem\, annak mindenképpen el kell látogatnia és fel kell fedeznie a kincseit. Ehhez nyújt segítséget a rendezvény – no persze figyelembe véve a biciklizés iránti elhivatottságot is! \nA Balatonkör Sportegyesület a Siklós Város Önkormányzatának védnökségével\, hagyományteremtő szándékkal szervezi meg a Buga Jakab kerékpártúrát\, ami megmutatja Siklós és könyékének szépségeit: a Siklósi Várat\, Siklós környékét\, a villányi borvidéket\, az érintetlen Drávapartot. \nMi várható idén a biciklis eseményen?\nMinden információt megtalálhat\, illetve regisztrálhat a Balatonkör Sportegyesület megújult honlapján: https://balatonkor.hu/buga-jakab-tura-siklos/ \nA főbb tudnivalókat itt is felsoroljuk: \n\n2026. április 23. csütörtökig van lehetőség az internetes előnevezésre. 2026. április 23. csütörtök 24:00-ig be is kell érkeznie a nevezési díjnak!\nAz interneten történő előnevezés olcsóbb\, mint a helyszíni!\n14 éves kor alatt írásos szülői beleegyezés vagy kíséret szükséges a túrán való részvételhez!\nLehetőleg mindenki a fizikai erőnlétének megfelelő távot válasszon.\nTudomásul veszi\, hogy a Buga Jakab túra minden távján a közlekedési szabályok (KRESZ) betartása kötelező. A kötelező KRESZ tartozékokat kérjük\, vedd komolyan\, hiszen a túra napján is fokozott rendőri ellenőrzésre kell számítania a kerekeseknek.\nA túra a közúti közlekedés fenntartása mellett zajlik.\nA túrán a kerékpáros fejvédő használata ajánlott!\n\nA nevezési díj tartalmazza: \n\nAjándék emblémázott pólót a pólót kérőknek\nA helyszíni nevezőknek a nevezési díj nem tartalmazza a póló árát\, az külön megvásárolható a készlet erejéig\, ára: 2.000 Ft.\nEgyedi befutó érmet\nFrissítőt\nSzervizt a regisztrációnál\, menet közben (a vezetett túrához)\, a frissítőpontokon\nMentőt\, orvosi segítséget\nMotoros útvonal biztosítókat\, segítőket (nem rendőrök\, nincs lezárva az út!)\nNévre szóló rajtszámot\nMeglepetés ajándékokat\nKarszalagot\nKerékpár matricát\nIngyenes belépőt a Siklósi Várba\nBeérkezéskor gulyásleveset (szombaton a Buga Jakab 94 km-es és vasárnap a Buga Jakab 145 km-es táv beérkezést követően)\nÉrtékes sorsolási ajándékokat\n\nTalálkozzunk a Siklósi Várnál 2026.04.25-én! \nTovábbi részletek az esemény weboldalán olvashatók.
URL:https://www.xavinhotelharkany.hu/esemeny/buga-jakab-kerekpartura-2026-siklos-xavinhotelharkany/
LOCATION:Siklósi Vár\, Vajda János tér 8.\, Siklós\, Baranya\, 7800\, Magyarország
ATTACH;FMTTYPE=image/jpeg:https://www.xavinhotelharkany.hu/wp-content/uploads/2026/02/buga_jakab_kerekpartura_siklos_20260425-scaled-1.jpg
ORGANIZER;CN="Balatonk%C3%B6r":MAILTO:info@balatonkor.hu
END:VEVENT
BEGIN:VEVENT
DTSTART;TZID=UTC:20260425T180000
DTEND;TZID=UTC:20260425T233000
DTSTAMP:20260425T013043
CREATED:20260421T080418Z
LAST-MODIFIED:20260421T081054Z
UID:14424-1777140000-1777159800@www.xavinhotelharkany.hu
SUMMARY:Magyar - Német - Horvát Est Harkányban
DESCRIPTION:Magyar – Német – Horvát Est Harkányban\, 2026.04.25-én 18:00-tól a Kiss József Művelődési Házban\, hasonlóan a tavaly októberi eseményhez\, mely szintén a város és a környék nemzetiségi programlehetősége volt. \n \nMagyar – Horvát – Német Nemzetiségi Est menetrend / programfüzet\n\n18.00 – Köszöntő és kulturális műsorok\n\nZora táncegyüttes (Mohács)\nSihafa Népdalkör (Harkány)\n\n\n19.30 – Táncház horvát\, magyar és német táncokkal\n\nKözreműködik a Millich – Auth duó\nKözreműködik a Badel zenekar\n\n\n\nTámogatók: \nKiss József Könyvtár\, Művelődési Ház és Sportcsarnok \nHarkányi Horvát Nemzetiségi Önkormányzat \nHarkányi Német Nemzetiségi Önkormányzat
URL:https://www.xavinhotelharkany.hu/esemeny/magyar-nemet-horvat-est-harkanyban-20260425-xavinhotelharkany/
LOCATION:Művelődési Ház\, Harkány\, Kossuth Lajos utca 2.\, Harkány\, Baranya\, 7815\, Magyarország
ATTACH;FMTTYPE=image/jpeg:https://www.xavinhotelharkany.hu/wp-content/uploads/2026/04/magyar_nemet_horvat_est_harkany_2026.jpg
ORGANIZER;CN="Hark%C3%A1ny V%C3%A1ros %C3%96nkorm%C3%A1nyzata":MAILTO:titkarsag@harkany.hu
END:VEVENT
END:VCALENDAR