BEGIN:VCALENDAR
VERSION:2.0
PRODID:-//Xavin Hotel Harkány - ECPv6.3.4//NONSGML v1.0//EN
CALSCALE:GREGORIAN
METHOD:PUBLISH
X-WR-CALNAME:Xavin Hotel Harkány
X-ORIGINAL-URL:https://www.xavinhotelharkany.hu
X-WR-CALDESC:Events for Xavin Hotel Harkány
REFRESH-INTERVAL;VALUE=DURATION:PT1H
X-Robots-Tag:noindex
X-PUBLISHED-TTL:PT1H
BEGIN:VTIMEZONE
TZID:UTC
BEGIN:STANDARD
TZOFFSETFROM:+0000
TZOFFSETTO:+0000
TZNAME:UTC
DTSTART:20260101T000000
END:STANDARD
END:VTIMEZONE
BEGIN:VEVENT
DTSTART;TZID=UTC:20260430T170000
DTEND;TZID=UTC:20260503T040000
DTSTAMP:20260421T182234
CREATED:20260421T102318Z
LAST-MODIFIED:20260421T102549Z
UID:14436-1777568400-1777780800@www.xavinhotelharkany.hu
SUMMARY:Birtok Grand Opening 2026
DESCRIPTION:Birtok Grand Opening a Haraszti Borbirtokon\, 2026 április 30-ától egészen május 3-áig várják szeretettel az érdeklődőket egy igen hangulatos és izgalmas hétvégével. \n\nHosszú hónapok munkája után végre megnyitjuk a Haraszti Birtokot az idei első nagy hétvégére\, és megmutatjuk\, mennyit változott a hely az elmúlt időszakban.\nÉpítettünk\, kertészkedtünk\, szépítettük a hegyet — és most készen áll arra\, hogy újra megteljen zenével\, borral és jó emberekkel.\n\n\nAz elmúlt hónapok újdonságaiból egy kis ízelítő:\n elkészült egy óriási új sziklakert több mint 100 évelő növénnyel folyamatosan épül a BirtokGarden mintakert szépen fejlődik az olíva ültetvény új téglajárdák és kis kertitavak készültek új chill spotok születtek borozáshoz\, beszélgetéshez és naplementenézéshez\n\n\nA zenéért és hangulatért felelős Birtok DJ Crew fogja garantálni\, hogy mindenkinek szuper élmény legyen.\n\n\n Program\n0. nap – beköltözős csütörtök (április 30.)17:00 – kapunyitás\, camping\, borbár\, laza érkezésEz a nap a megérkezésé és ráhangolódásé.\n1. nap – péntek (május 1.)18:00 – 04:00\n2. nap – szombat (május 2.)18:00 – 04:00\n\n\n\n Belépő3000 Ft / fő / 3 nap\nJegyek már kaphatók: https://www.tixa.hu/birtok-grand-opening-2025\n\n\n CampingA Grand Opening ideje alatt sátorhellyel várunk titeket a birtokon\, így kényelmesen fent tölthetitek az egész hétvégét a szőlőhegyen. Camping díj: 3000 Ft / fő / éjJegyek már kaphatók: https://www.tixa.hu/birtok-grand-opening-2025\n\n\nBirtok Grand Opening
URL:https://www.xavinhotelharkany.hu/esemeny/birtok-grand-opening-2026-xavinhotelharkany/
LOCATION:Palkonya\, Fő u.\, Palkonya\, Baranya\, 7771\, Magyarország
ATTACH;FMTTYPE=image/jpeg:https://www.xavinhotelharkany.hu/wp-content/uploads/2026/04/648636544_1529655009164716_7870605162040018294_n-1.jpg
ORGANIZER;CN="Haraszti Birtok %C3%A9s Camping":MAILTO:haraszti.pince@gmail.com
END:VEVENT
END:VCALENDAR