BEGIN:VCALENDAR
VERSION:2.0
PRODID:-//Xavin Hotel Harkány - ECPv6.3.4//NONSGML v1.0//EN
CALSCALE:GREGORIAN
METHOD:PUBLISH
X-WR-CALNAME:Xavin Hotel Harkány
X-ORIGINAL-URL:https://www.xavinhotelharkany.hu
X-WR-CALDESC:Events for Xavin Hotel Harkány
REFRESH-INTERVAL;VALUE=DURATION:PT1H
X-Robots-Tag:noindex
X-PUBLISHED-TTL:PT1H
BEGIN:VTIMEZONE
TZID:UTC
BEGIN:STANDARD
TZOFFSETFROM:+0000
TZOFFSETTO:+0000
TZNAME:UTC
DTSTART:20260101T000000
END:STANDARD
END:VTIMEZONE
BEGIN:VEVENT
DTSTART;TZID=UTC:20260502T100000
DTEND;TZID=UTC:20260502T100000
DTSTAMP:20260421T222636
CREATED:20260421T110803Z
LAST-MODIFIED:20260421T110913Z
UID:14447-1777716000-1777716000@www.xavinhotelharkany.hu
SUMMARY:Villányi tavasz
DESCRIPTION:Villányi tavasz a bor és zene napja – 2026.05.02. -án a Villányi pincesoron\, egy nap amikor Villány igazán életre kel!! \n Mi vár rád?\n– Pincészetek különleges ajánlatai– Élőzenés programok– Nappali élményzóna– Esti koncertek és buli hajnalig– És egy izgalmas játék: BORÚTLEVÉL \n\nRészletek és fellépők hamarosan!\n\n\nVillányi tavasz
URL:https://www.xavinhotelharkany.hu/esemeny/villanyi-tavasz-xavinhotelharkany/
LOCATION:Villányi borvidék\, Villány-Villánykövesd-Palkonya-Kisharsány-Siklós\, Baranya\, Hungary
ATTACH;FMTTYPE=image/jpeg:https://www.xavinhotelharkany.hu/wp-content/uploads/2026/04/668705760_1512600227531683_3317056488063462150_n-1.jpg
ORGANIZER;CN="Ir%C3%A1ny Vill%C3%A1ny":MAILTO:iranyvillany@gmail.com
END:VEVENT
END:VCALENDAR