BEGIN:VCALENDAR
VERSION:2.0
PRODID:-//Xavin Hotel Harkány - ECPv6.3.4//NONSGML v1.0//EN
CALSCALE:GREGORIAN
METHOD:PUBLISH
X-ORIGINAL-URL:https://www.xavinhotelharkany.hu
X-WR-CALDESC:Events for Xavin Hotel Harkány
REFRESH-INTERVAL;VALUE=DURATION:PT1H
X-Robots-Tag:noindex
X-PUBLISHED-TTL:PT1H
BEGIN:VTIMEZONE
TZID:UTC
BEGIN:STANDARD
TZOFFSETFROM:+0000
TZOFFSETTO:+0000
TZNAME:UTC
DTSTART:20260101T000000
END:STANDARD
END:VTIMEZONE
BEGIN:VEVENT
DTSTART;TZID=UTC:20260501T080000
DTEND;TZID=UTC:20260501T193000
DTSTAMP:20260421T182104
CREATED:20260421T104256Z
LAST-MODIFIED:20260421T104352Z
UID:14439-1777622400-1777663800@www.xavinhotelharkany.hu
SUMMARY:Szigetvár - Majális
DESCRIPTION:Szigetvár Majális 2026 május 1-én\, egy esemény ahol kicsik – nagyok egyaránt megtalálják számukra megfelelő programot. \nMegjelenik az eseményen a gasztronómia\,  a kézműves foglalkozás\, kalandjáték\, nótázás\, kocsikázás és még sok más. Garantált a jó kedv és fergeteges hangulat. \nRészletesebb programleírás: \n\n8.00-13.00 Főzőverseny\n10.00-10.30 Tóparti Fúvós koncert\n10.30-12.00 Nótázó\n13.30 Főzőverseny eredményhirdetés\n14.00-14.30 Vektor Íjász Klub SE Vesenyzőinek bemutatója\n14.00-16.00 Lufibohó\n14.00-18.00 Élményjáték sziget\n14.00-18.00 Csillámtetoválás\, arcfestés\n14.00-18.00 Kalandjáték\n14.00-18.00 Kreatív kézműves foglalkozás\n14.00-17.00 Kocsikázás\n\nÉs még sok más 🙂 \nSzigetvár – Majális
URL:https://www.xavinhotelharkany.hu/esemeny/szigetvar-majalis-xavinhotelharkany/
LOCATION:Szigetvár\, Zrínyi tér\, Zrínyi tér\, Szigetvár\, Baranya\, 7900\, Hungary
ATTACH;FMTTYPE=image/jpeg:https://www.xavinhotelharkany.hu/wp-content/uploads/2026/04/671403718_27046144558381505_3734786819934675883_n-1.jpg
ORGANIZER;CN="Szigetv%C3%A1r %C3%B6nkorm%C3%A1nyzata":MAILTO:onkormanyzat@szigetvar.hu
END:VEVENT
END:VCALENDAR