BEGIN:VCALENDAR
VERSION:2.0
PRODID:-//Xavin Hotel Harkány - ECPv6.3.4//NONSGML v1.0//EN
CALSCALE:GREGORIAN
METHOD:PUBLISH
X-ORIGINAL-URL:https://www.xavinhotelharkany.hu
X-WR-CALDESC:Events for Xavin Hotel Harkány
REFRESH-INTERVAL;VALUE=DURATION:PT1H
X-Robots-Tag:noindex
X-PUBLISHED-TTL:PT1H
BEGIN:VTIMEZONE
TZID:UTC
BEGIN:STANDARD
TZOFFSETFROM:+0000
TZOFFSETTO:+0000
TZNAME:UTC
DTSTART:20230101T000000
END:STANDARD
END:VTIMEZONE
BEGIN:VEVENT
DTSTART;TZID=UTC:20230505T130000
DTEND;TZID=UTC:20230506T120000
DTSTAMP:20260419T180916
CREATED:20230504T201350Z
LAST-MODIFIED:20230504T201428Z
UID:7583-1683291600-1683374400@www.xavinhotelharkany.hu
SUMMARY:Virág- és palánta börze - harkányi őstermelői piac
DESCRIPTION:A harkányi őstermelői piac időről-időre a helyi termelők portékáit kanálja a városiak és a turisták számára is\, amely gazdaságilag és kulturálisan egyaránt fontos Harkány életében. \nMost egy virág-\, ill. palánta börzére invitáljuk Önöket: \n\n2023.05.05. 13:00 – 17:00\n2023.05.06. 8:00 – 12:00\n\nJöjjenek el\, tekintsék meg a piacot!
URL:https://www.xavinhotelharkany.hu/esemeny/virag-es-palanta-borze-harkanyi-ostermeloi-piac/
LOCATION:Harkány\, Termelői piac\, Ady Endre u. 1.\, Harkány\, Baranya\, 7815\, Magyarország
ATTACH;FMTTYPE=image/jpeg:https://www.xavinhotelharkany.hu/wp-content/uploads/2022/12/IGP8743_1.jpg
ORGANIZER;CN="Hark%C3%A1nyi V%C3%A1rosgazd%C3%A1lkod%C3%A1si Zrt.":MAILTO:varosgazdalkodas@harkany.hu
END:VEVENT
BEGIN:VEVENT
DTSTART;TZID=UTC:20230513T080000
DTEND;TZID=UTC:20230513T120000
DTSTAMP:20260419T180916
CREATED:20230511T174843Z
LAST-MODIFIED:20230511T174843Z
UID:7641-1683964800-1683979200@www.xavinhotelharkany.hu
SUMMARY:Kézműves vásár a harkányi Termelői Piacon
DESCRIPTION:Örömmel tájékoztatunk mindenkit\, hogy a harkányi Termelői piacon május 13-án 8:00 – 12:00 között kézműves vásár lesz. \nTámogassuk közösen a helyi termelőket és kézműveseket!
URL:https://www.xavinhotelharkany.hu/esemeny/kezmuves-vasar-a-harkanyi-termeloi-piacon/
LOCATION:Harkány\, Termelői piac\, Ady Endre u. 1.\, Harkány\, Baranya\, 7815\, Magyarország
ATTACH;FMTTYPE=image/jpeg:https://www.xavinhotelharkany.hu/wp-content/uploads/2023/05/harkanytermeloi_20230513.jpg
ORGANIZER;CN="Hark%C3%A1ny V%C3%A1ros %C3%96nkorm%C3%A1nyzata":MAILTO:titkarsag@harkany.hu
END:VEVENT
END:VCALENDAR